BEGIN:VCALENDAR
VERSION:2.0
PRODID:-//Tukios.com/
BEGIN:VEVENT
UID:2481d3fb-e704-41b6-8279-fbcebb890f8d@www.ewbfunerals.com
DTSTAMP:20260424T195705Z
DTSTART:20260430T140000Z
DTEND:20260430T150000Z
SUMMARY:Viewing
DESCRIPTION:
URL:https://www.ewbfunerals.com/obituaries/geraldine-winters
LOCATION:Holsey Temple CME 5305 Germantown Avenue  Philadelphia PA 19144
GEO:40.0328465;-75.1695469
END:VEVENT
END:VCALENDAR