BEGIN:VCALENDAR
VERSION:2.0
PRODID:-//Tukios.com/
BEGIN:VEVENT
UID:7cbecbe7-bf47-4d8d-9d95-038a3b57464b@www.ewbfunerals.com
DTSTAMP:20260424T195609Z
DTSTART:20260430
SUMMARY:Interment
DESCRIPTION:
URL:https://www.ewbfunerals.com/obituaries/geraldine-winters
LOCATION: 1701 East Washington Lane  Philadelphia PA 19138
GEO:40.0631703;-75.161966
END:VEVENT
END:VCALENDAR