BEGIN:VCALENDAR
VERSION:2.0
PRODID:-//Tukios.com/
BEGIN:VEVENT
UID:a9c556ad-04f8-481b-b77e-8cdaca6efa53@www.ewbfunerals.com
DTSTAMP:20260421T192248Z
DTSTART:20260430T130000Z
DTEND:20260430T150000Z
SUMMARY:Viewing
DESCRIPTION:
URL:https://www.ewbfunerals.com/obituaries/wayne-jackson
LOCATION: 6401 Ogontz Avenue  Philadelphia PA 19126
GEO:40.0519475;-75.1494606
END:VEVENT
END:VCALENDAR