BEGIN:VCALENDAR
VERSION:2.0
PRODID:-//Tukios.com/
BEGIN:VEVENT
UID:155dbafc-f2a4-4240-9db9-dccb116dbe53@www.ewbfunerals.com
DTSTAMP:20260421T191802Z
DTSTART:20260430T150000Z
DTEND:20260430T160000Z
SUMMARY:Funeral Service
DESCRIPTION:
URL:https://www.ewbfunerals.com/obituaries/wayne-jackson
LOCATION:Mount Airy Church of God in Christ 6401 Ogontz Avenue  
	Philadelphia PA 19126
GEO:40.0519475;-75.1494606
END:VEVENT
END:VCALENDAR