BEGIN:VCALENDAR
VERSION:2.0
PRODID:-//Tukios.com/
BEGIN:VEVENT
UID:cc997697-a26b-4bf6-9b6f-e9230de67de8@www.ewbfunerals.com
DTSTAMP:20260422T212043Z
DTSTART:20260501T150000Z
DTEND:20260501T160000Z
SUMMARY:Funeral Service
DESCRIPTION:
URL:https://www.ewbfunerals.com/obituaries/willie-logan-boyd
LOCATION:Faith Fellowship Church 2101 West 65th Avenue  Philadelphia PA 
	19138
GEO:40.0534592;-75.1554898
END:VEVENT
END:VCALENDAR