BEGIN:VCALENDAR
VERSION:2.0
PRODID:-//Tukios.com/
BEGIN:VEVENT
UID:c25dcf71-c48c-4caa-a8ca-e70d34174183@www.ewbfunerals.com
DTSTAMP:20260422T212304Z
DTSTART:20260501T130000Z
DTEND:20260501T150000Z
SUMMARY:Viewing
DESCRIPTION:
URL:https://www.ewbfunerals.com/obituaries/willie-logan-boyd
LOCATION:Faith Fellowship Church 2101 West 65th Avenue  Philadelphia PA 
	19138
GEO:40.0534592;-75.1554898
END:VEVENT
END:VCALENDAR