BEGIN:VCALENDAR
VERSION:2.0
PRODID:-//Tukios.com/
BEGIN:VEVENT
UID:5fa22c14-0fa1-461c-9d45-d57b36646344@www.ewbfunerals.com
DTSTAMP:20260422T212932Z
DTSTART:20260501
SUMMARY:Interment
DESCRIPTION:
URL:https://www.ewbfunerals.com/obituaries/willie-logan-boyd
LOCATION: 1501 Haines Street  Philadelphia PA 19126
GEO:40.0608995;-75.1443226
END:VEVENT
END:VCALENDAR